BEGIN:VCALENDAR
VERSION:2.0
PRODID:-//InvisionCommunity Events 5.0.18//EN
METHOD:PUBLISH
CALSCALE:GREGORIAN
REFRESH-INTERVAL:PT15M
X-PUBLISHED-TTL:PT15M
X-WR-CALNAME:Eastern
NAME:Eastern
BEGIN:VTIMEZONE
TZID:Europe/London
TZURL:https://tzurl.org/zoneinfo/Europe/London
X-LIC-LOCATION:Europe/London
BEGIN:DAYLIGHT
TZOFFSETFROM:+0000
TZOFFSETTO:+0100
TZNAME:BST
DTSTART:20180325T020000Z
RRULE:FREQ=YEARLY;BYMONTH=3;BYDAY=-1SU
END:DAYLIGHT
BEGIN:STANDARD
TZOFFSETFROM:+0100
TZOFFSETTO:+0000
TZNAME:GMT
DTSTART:20181028T020000Z
RRULE:FREQ=YEARLY;BYMONTH=10;BYDAY=-1SU
END:STANDARD
END:VTIMEZONE
BEGIN:VEVENT
SUMMARY:Northampton Sun Group
DTSTAMP:20180601T102419Z
SEQUENCE:0
UID:4290-8-0712e666d78c35a5e0181a336d457050@bn.org.uk
ORGANIZER;CN="mellori":notifications@bn.org.uk
DESCRIPTION:\n\n	Northampton Sun Group (NSG) has been meeting for skinny
	 dips in Northampton on Sunday evenings since 1982. Our evenings start at 
	5.30pm and finish at 8.00pm. At present NSG has 60+ members from all walks
	 of life\, all ages (30 ~ 80+ years). We are a very friendly group which i
	s typical of naturist clubs\, the mid-evening 'tea-break' gives the opport
	unity for a chat and to socialise with other members. We hold sessions ev
	ery week at The Mounts Swimming Complex in Northampton from January to the
	 end of June and from September to December (except Bank Holiday weekends
	 and the summer holidays) for swimming and the use of the venue's Swedish 
	Sauna &amp\; Russian Steam Room\, we also have the use of three Turkish Ho
	t Rooms to relax in and a lounge area to hold the very informal meeting. I
	t’s the ultimate skinny dip experience and a great way to finish the we
	ekend! There is a Table tennis Table and there is also a Yoga Group avail
	able during the second half of many evenings. \n\n\n\n		Telephone: 07554 
	327193\n	\n	\n		E-mail:nsgmembers@gmail.com\n	\n	\n		Website: http://www.
	nsgswim.org.uk\n	\n	\n		Please telephone or e-mail in advance of your pro
	posed visit.\n	\n\n	Annual Membership \n\n\n\n	£60.00 September 2018 to
	 September 2019.\n\n\n\n	Entry fees \n\n\n\n	Visitors and Members guest
	s £12.00\, Members £10.00\, Children accompanying adults have free membe
	rship and entry to the venue.\n\n
DTSTART:20180930T163000Z
DTEND:20180930T190000Z
RRULE:FREQ=WEEKLY;INTERVAL=1;COUNT=11;BYDAY=SU
END:VEVENT
END:VCALENDAR
