BEGIN:VCALENDAR
VERSION:2.0
PRODID:-//InvisionCommunity Events 5.0.18//EN
METHOD:PUBLISH
CALSCALE:GREGORIAN
REFRESH-INTERVAL:PT15M
X-PUBLISHED-TTL:PT15M
X-WR-CALNAME:Scotland and North East (SANER)
NAME:Scotland and North East (SANER)
BEGIN:VTIMEZONE
TZID:Europe/London
TZURL:https://tzurl.org/zoneinfo/Europe/London
X-LIC-LOCATION:Europe/London
BEGIN:DAYLIGHT
TZOFFSETFROM:+0000
TZOFFSETTO:+0100
TZNAME:BST
DTSTART:20180325T020000Z
RRULE:FREQ=YEARLY;BYMONTH=3;BYDAY=-1SU
END:DAYLIGHT
BEGIN:STANDARD
TZOFFSETFROM:+0100
TZOFFSETTO:+0000
TZNAME:GMT
DTSTART:20181028T020000Z
RRULE:FREQ=YEARLY;BYMONTH=10;BYDAY=-1SU
END:STANDARD
END:VTIMEZONE
BEGIN:VEVENT
SUMMARY:Residential weekend
DTSTAMP:20180521T141338Z
SEQUENCE:0
UID:4271-3-0712e666d78c35a5e0181a336d457050@bn.org.uk
ORGANIZER;CN="Kev.oconnor":notifications@bn.org.uk
DESCRIPTION:\n\n	Residential weekend in beautiful Fermanagh. £75pps inc
	 continental breakfast. Self/shared catering available. http://w3w.co/code
	s.marked.thrusters\n\n\n\n	 Details kev.oconnor@bn.org.uk \n\n\n
DTSTART:20180921T140000Z
DTEND:20180924T090000Z
ATTENDEE;CN="GaryNors";CUTYPE=INDIVIDUAL;PARTSTAT=ACCEPTED:n
	otifications@bn.org.uk
END:VEVENT
END:VCALENDAR
