BEGIN:VCALENDAR
VERSION:2.0
PRODID:-//InvisionCommunity Events 5.0.18//EN
METHOD:PUBLISH
CALSCALE:GREGORIAN
REFRESH-INTERVAL:PT15M
X-PUBLISHED-TTL:PT15M
X-WR-CALNAME:London and South East (LASER)
NAME:London and South East (LASER)
BEGIN:VTIMEZONE
TZID:Europe/London
TZURL:https://tzurl.org/zoneinfo/Europe/London
X-LIC-LOCATION:Europe/London
BEGIN:DAYLIGHT
TZOFFSETFROM:+0000
TZOFFSETTO:+0100
TZNAME:BST
DTSTART:20180325T020000Z
RRULE:FREQ=YEARLY;BYMONTH=3;BYDAY=-1SU
END:DAYLIGHT
BEGIN:STANDARD
TZOFFSETFROM:+0100
TZOFFSETTO:+0000
TZNAME:GMT
DTSTART:20181028T020000Z
RRULE:FREQ=YEARLY;BYMONTH=10;BYDAY=-1SU
END:STANDARD
END:VTIMEZONE
BEGIN:VEVENT
SUMMARY:Naturist Visit to High Beeches Gardens
DTSTAMP:20180419T200506Z
SEQUENCE:0
UID:4164-7-0712e666d78c35a5e0181a336d457050@bn.org.uk
ORGANIZER;CN="john.rodgers":notifications@bn.org.uk
DESCRIPTION:\n\n	Our evening visit to the gardens\, which are near Handc
	ross in West Sussex RH17 6HQ\, is on Saturday 21st  July. The gardens will
	 be open for the evening from 5.15 – 8.30pm. Admission at the entrance i
	s £8\, and children under 14 are free. Please note the gardens are unable
	 to accept debit or credit cards. \n\n\n\n	The visit is not just for B.N m
	embers\, so you can tell your naturist friends about it. This is not a clo
	thes optional event\, and visitors are expect to be naked if the weather i
	s suitable. \n\n\n\n	You are welcome to bring your own food and drink alon
	g. There is a picnic area with tables\, and a small covered area nearby. W
	e also have the privilege of being allowed to take picnics into the garden
	s on the strict understanding that no litter or food left behind. Please n
	ote that the cafe will be closed. \n\n\n\n	Only guide or assistance dogs a
	re allowed in the gardens\, and please be aware that some paths are steep 
	and maybe slippery after rain.\n\n\n\n	For any further information in resp
	ect of our visits please contact alan.peill@bn.org.uk  \n\n\n\n	You can a
	lso visit the gardens website for more information about them.  http://www
	.highbeeches.com/\n\n\n\n	If the weather is inclement on the day please ca
	ll 07534 847162\, there will be an answer phone message advising whether t
	he visit will be going ahead or not. Please do not call that number for ge
	neral enquiries.\n\n\n\n	If you are travelling from further afield\, Apoll
	o\, and Millbank clubs offer facilities for camping and caravanning. Pleas
	e contact the clubs (details on the BN website) for further details. \n\n
DTSTART:20180721T161500Z
DTEND:20180721T193000Z
END:VEVENT
END:VCALENDAR
