BEGIN:VCALENDAR
VERSION:2.0
PRODID:-//InvisionCommunity Events 5.0.18//EN
METHOD:PUBLISH
CALSCALE:GREGORIAN
REFRESH-INTERVAL:PT15M
X-PUBLISHED-TTL:PT15M
X-WR-CALNAME:South West
NAME:South West
BEGIN:VTIMEZONE
TZID:Europe/London
TZURL:https://tzurl.org/zoneinfo/Europe/London
X-LIC-LOCATION:Europe/London
BEGIN:DAYLIGHT
TZOFFSETFROM:+0000
TZOFFSETTO:+0100
TZNAME:BST
DTSTART:20180325T020000Z
RRULE:FREQ=YEARLY;BYMONTH=3;BYDAY=-1SU
END:DAYLIGHT
BEGIN:STANDARD
TZOFFSETFROM:+0100
TZOFFSETTO:+0000
TZNAME:GMT
DTSTART:20181028T020000Z
RRULE:FREQ=YEARLY;BYMONTH=10;BYDAY=-1SU
END:STANDARD
END:VTIMEZONE
BEGIN:VEVENT
SUMMARY:Naked Dining in a Pullman Train Coach - optional camping
DTSTAMP:20180404T203808Z
SEQUENCE:0
UID:4142-4-0712e666d78c35a5e0181a336d457050@bn.org.uk
ORGANIZER;CN="mark.walsh":notifications@bn.org.uk
DESCRIPTION:\n\n	Naked Dining in 'The Carriage' at The Old Station Inn\,
	 Hallatrow\, Somerset.\n\n\n\n	Sunday 27th May from 7.00pm\n\n\n\n	£21.95
	 for all three courses - BOOK ONLINE HERE\n\n\n\n	For more information ple
	ase contact: Sandra.ballard@sky.com \n\n\n\n	Nestled equidistant between 
	Bath\, Bristol and Wells lays The Old Station Inn and Carriage restaurant.
	 The Hotel\, originally commissioned for the now closed Hallatrow Railway 
	station was built in the 1920s and is a fine example of the architecture o
	f the period. \n\n\n\n	With obvious links to the railways it also features
	 an old Pullman carriage as its restaurant\, which has been lovingly resto
	red to all its former glory. This was modelled on the iconic Royal Scotsma
	n's dining car and is both elegant and welcoming. Here's your opportunit
	y to dine naked in real style...\n\n\n\n	Make a weekend of it and stay a
	 mile away at  Cam Bridge Barn Naturist Site!\n\n\n\n	Pullman carriage me
	nu\n\n\n\n	Starters\n\n	• Soup of the day with crusty bread \n\n	• Go
	at cheese tart with tomato chutney \n\n	• Classic prawn cocktail \n\
	n	• Caesar salad with garlic croutons and anchovies \n\n	• Tempura sh
	rimp with sweet chilli \n\n	• Crispy crab cake with mango salsa\n\n\n\
	n	 Main courses\n\n\n\n	• 10oz rump steak with fat chips\, salad\, cris
	py onions and herb tomato \n\n	• Today’s fresh fish and chips with pe
	as and salad garnish \n\n	• Stuffed chicken with smoked cheese wrapped 
	in Parma ham fresh veg\, pesto mash \n\n	• Wild mushroom risotto stuffe
	d butternut squash\, rocket pine nuts and parmesan \n\n	• Shrimp\, Scal
	lop and chorizo Kebab\, tossed salad\, fat chips\n\n\n\n	 Desserts \n\n\
	n\n	• Croissant bread and butter pudding with custard \n\n	• Carameli
	zed lemon tart • Chocolate mousse trio \n\n	• Profiteroles with whipp
	ed cream and chocolate sauce\n\n\n\n	Coffee or tea \n\n\n\n	Venue:\n\n\n\
	n	The Old Station Inn &amp\; Carriage Restaurant\n\n	Wells Road\n\n	Hallat
	row\n\n	Somerset\n\n	BS39 6EN\n\n\n\n	 \n\n\n\n	Camping\n\n\n\n	Depending
	 on numbers there are a few sessions that are planned and may include:\n\n
	\n\n	•    Walks\n\n	•    Basket Weaving \n\n	•    Glas
	s Decorating\n\n	•    Wild Swimming\n\n	•    Massage/thera
	pies \n\n	•    Fire pit sing-alongs \n\n	•    BBQ\n\n	 \n\n
DTSTART:20180527T180000Z
DTEND:20180527T220000Z
END:VEVENT
END:VCALENDAR
