BEGIN:VCALENDAR
VERSION:2.0
PRODID:-//InvisionCommunity Events 5.0.18//EN
METHOD:PUBLISH
CALSCALE:GREGORIAN
REFRESH-INTERVAL:PT15M
X-PUBLISHED-TTL:PT15M
X-WR-CALNAME:Scotland and North East (SANER)
NAME:Scotland and North East (SANER)
BEGIN:VTIMEZONE
TZID:Europe/London
TZURL:https://tzurl.org/zoneinfo/Europe/London
X-LIC-LOCATION:Europe/London
BEGIN:DAYLIGHT
TZOFFSETFROM:+0000
TZOFFSETTO:+0100
TZNAME:BST
DTSTART:20180325T020000Z
RRULE:FREQ=YEARLY;BYMONTH=3;BYDAY=-1SU
END:DAYLIGHT
BEGIN:STANDARD
TZOFFSETFROM:+0100
TZOFFSETTO:+0000
TZNAME:GMT
DTSTART:20181028T020000Z
RRULE:FREQ=YEARLY;BYMONTH=10;BYDAY=-1SU
END:STANDARD
END:VTIMEZONE
BEGIN:VEVENT
SUMMARY:Haddington - Forth Naturists Club swim
DTSTAMP:20180404T180755Z
SEQUENCE:0
UID:4135-3-0712e666d78c35a5e0181a336d457050@bn.org.uk
ORGANIZER;CN="Jon Oates":notifications@bn.org.uk
DESCRIPTION:\n\n	AUBIGNY LEISURE CENTRE\n\n	Mill Wynd\, Haddington\, EH4
	1 4DB \n\n	East-Lothian \n\n	SWIMMING POOL AND CHILDRENS POOL \n\n	SAUN
	A\, STEAM ROOM AND SPORTS HALL \n\n	VOLLEYBALL AND BADMINTON.\n\n\n\n	Tea
	\, Coffee\, Snacks and Cool Drinks\n\n\n\n	Nov  4thNov 18th *** AGM **
	*Dec 2nd &amp\; 16th \n\n\n\n	Members Please Bring your membership paymen
	t (£25) with you to the first swim you attend in 2018.\n\n\n\n	Entrance F
	ee from Jan 2018: \n\n	Visitors £12 Per Person (first visit half price)\
	nUnder 16s Free (must be accompanied by an over-16)\n\n\n\n	Members £10
	 (£8 for students and concessions)\n\n\n\n	\n\n	FROM 4.30pm to 7pm (swim 
	starts at 5pm)\n\n	(doors locked at 5:15pm for security reasons)\n\n\n\n	F
	or more details\, contact the secretary: http://www.forthnaturists.co.uk
	/contact-us\n\n\n\n	ENQUIRIES FROM PROSPECTIVE MEMBERS ALWAYS WELCOME.\n\n
	\n\n	Visitors are required to produce some form of identification\, BN/IN
	F card\, driving licence etc\, (preferably with a photo)\n\n
DTSTART:20181104T170000Z
DTEND:20181104T190000Z
END:VEVENT
END:VCALENDAR
