BEGIN:VCALENDAR
VERSION:2.0
PRODID:-//InvisionCommunity Events 5.0.18//EN
METHOD:PUBLISH
CALSCALE:GREGORIAN
REFRESH-INTERVAL:PT15M
X-PUBLISHED-TTL:PT15M
X-WR-CALNAME:South West
NAME:South West
BEGIN:VTIMEZONE
TZID:Europe/London
TZURL:https://tzurl.org/zoneinfo/Europe/London
X-LIC-LOCATION:Europe/London
BEGIN:DAYLIGHT
TZOFFSETFROM:+0000
TZOFFSETTO:+0100
TZNAME:BST
DTSTART:20180325T020000Z
RRULE:FREQ=YEARLY;BYMONTH=3;BYDAY=-1SU
END:DAYLIGHT
BEGIN:STANDARD
TZOFFSETFROM:+0100
TZOFFSETTO:+0000
TZNAME:GMT
DTSTART:20181028T020000Z
RRULE:FREQ=YEARLY;BYMONTH=10;BYDAY=-1SU
END:STANDARD
END:VTIMEZONE
BEGIN:VEVENT
SUMMARY:Studland Beach Day
DTSTAMP:20180324T120701Z
SEQUENCE:0
UID:4113-4-0712e666d78c35a5e0181a336d457050@bn.org.uk
ORGANIZER;CN="peter.edwards":notifications@bn.org.uk
DESCRIPTION:\n\n	Bring a picnic and enjoy a day on this fantastic beach.
	  \n\n	Tea/coffee will be available as usual.  \n\n	Look out for the BN 
	banners/flags and gazeebo on the Knoll beach side of the central path/fire
	 break 6 from Ferry road.  \n\n\n\n	\n\n	Café &amp\; toilet facilities c
	an be found at Knoll and Shell beach car parks.  \n\n	National Trust memb
	ers can park free in the Knoll beach car park – NT membership card requi
	red.\n\n	Wilts &amp\; Dorset Bus (50) to Swanage misses the ferry queues a
	nd there are stops at Shell Bay\, Firebreak 6 and Knoll Beach.\n\n\n\n	\n\
	n	Families\, couples\, singles all welcome.  \n\n	Bring a friend and intr
	oduce them to naturism!\n\n\n\n	\n\n	Approx: 10:45 – 15:30 subject to we
	ather.\n\n	Don’t forget your sun protection!!!   \n\n\n	https://www.na
	tionaltrust.org.uk/studland-bay \n\n	 \n\n
DTSTART;VALUE=DATE:20180610
END:VEVENT
END:VCALENDAR
