BEGIN:VCALENDAR
VERSION:2.0
PRODID:-//InvisionCommunity Events 5.0.18//EN
METHOD:PUBLISH
CALSCALE:GREGORIAN
REFRESH-INTERVAL:PT15M
X-PUBLISHED-TTL:PT15M
X-WR-CALNAME:South West
NAME:South West
BEGIN:VTIMEZONE
TZID:Europe/London
TZURL:https://tzurl.org/zoneinfo/Europe/London
X-LIC-LOCATION:Europe/London
BEGIN:DAYLIGHT
TZOFFSETFROM:+0000
TZOFFSETTO:+0100
TZNAME:BST
DTSTART:20180325T020000Z
RRULE:FREQ=YEARLY;BYMONTH=3;BYDAY=-1SU
END:DAYLIGHT
BEGIN:STANDARD
TZOFFSETFROM:+0100
TZOFFSETTO:+0000
TZNAME:GMT
DTSTART:20181028T020000Z
RRULE:FREQ=YEARLY;BYMONTH=10;BYDAY=-1SU
END:STANDARD
END:VTIMEZONE
BEGIN:VEVENT
SUMMARY:BN Members Day at Pines
DTSTAMP:20180313T115944Z
SEQUENCE:0
UID:4104-4-0712e666d78c35a5e0181a336d457050@bn.org.uk
ORGANIZER;CN="peter.edwards":notifications@bn.org.uk
DESCRIPTION:\n\n	Saturday June 2nd from 10:30 am\n\n\n\n	Pines Outdoor 
	Club invites BN members to spend the day at their beautiful site on the ed
	ge of The Forest of Dean. \n\n\n\n	It will also be “Pines Outdoor Club 
	Clothes Optional Day” so the invitation also extends to non-naturists pa
	rtners of BN members. \n\n\n\n	Why not take this opportunity to invite a
	 friend and introduce them to naturism? \n\n\n\n	Day visitor fee: £4 fo
	r a single or £7 for a couple: Includes light refreshments - Tea/Coffee\
	, Biscuits/Cake. \n\n\n\n	Please bring your own packed picnic lunch.\n\n\
	n\n	There may be a BBQ with burgers etc to purchase – Subject to weather
	 conditions on the day.\n\n\n\n	To assist parking and catering requirement
	s please contact the club secretary if you are attending\, or if you hav
	e any questions re the day.\n\n\n\n	Contact: email  pines_sec@live.co.u
	k  or phone 07554 543841.\n\n\n\n	Website: http://www.pinesoutdoorclub.or
	g.uk/  \n\n\n\n	Please remember your BN membership card.  \n\n\n\n	Upda
	te: \nBN members are welcome to camp over Saturday night and turn a day v
	isit into a weekend visit!\n\n	In addition to your tent – drinking water
	\, cooking equipment\, food etc. will also be required.  Possible BBQ\, a
	s mentioned above\, may be an additional option subject to weather. \nPle
	ase contact Pines secretary for more information and to book a pitch. See 
	contact details above.\nAdvance booking is essential. \n\n	 \n\n
DTSTART;VALUE=DATE:20180602
END:VEVENT
END:VCALENDAR
