BEGIN:VCALENDAR
VERSION:2.0
PRODID:-//InvisionCommunity Events 5.0.18//EN
METHOD:PUBLISH
CALSCALE:GREGORIAN
REFRESH-INTERVAL:PT15M
X-PUBLISHED-TTL:PT15M
X-WR-CALNAME:North West
NAME:North West
BEGIN:VTIMEZONE
TZID:Europe/London
TZURL:https://tzurl.org/zoneinfo/Europe/London
X-LIC-LOCATION:Europe/London
BEGIN:DAYLIGHT
TZOFFSETFROM:+0000
TZOFFSETTO:+0100
TZNAME:BST
DTSTART:20180325T020000Z
RRULE:FREQ=YEARLY;BYMONTH=3;BYDAY=-1SU
END:DAYLIGHT
BEGIN:STANDARD
TZOFFSETFROM:+0100
TZOFFSETTO:+0000
TZNAME:GMT
DTSTART:20181028T020000Z
RRULE:FREQ=YEARLY;BYMONTH=10;BYDAY=-1SU
END:STANDARD
END:VTIMEZONE
BEGIN:VEVENT
SUMMARY:WNBR Manchester
DTSTAMP:20171204T182347Z
SEQUENCE:0
UID:3884-5-0712e666d78c35a5e0181a336d457050@bn.org.uk
ORGANIZER;CN="Garibaldi Nick":notifications@bn.org.uk
DESCRIPTION:\n\n	A peaceful\, imaginative and fun protest against oil de
	pendency and car culture. A celebration of the bicycle and also a celebrat
	ion of the power and individuality of the human body. A symbol of the vuln
	erability of the cyclist in traffic. The world's biggest naked protest: 50
	+ cities and thousands of riders participate worldwide\, including around 
	3\,000 in the UK each year.\n\n\n\n	In 2018\, rides take place across the 
	UK between 1 June and 21 July\, and we expect several thousand riders. Sig
	n-up on the WNBR main page (www.worldnakedbikeride.org/) and select the UK
	 Manchester event where all the directions to the event are available.\n\
	n\n\n	Please visit the link above to ensure you have the updated meeting t
	imes and joining instructions.\n\n\n\n	Date confirmed. (I am not an organi
	ser)\n\n\n\n	18:00 for 19:00 4 mile ride. All Saints Park\, M15 6BX Manc
	hester\, United Kingdom\n\n\n\n	WNBR Manchester\n\n\n\n	\n\n\n\n	\n\n\n\n	
	\n\n\n\n	\n\n
DTSTART:20180608T170000Z
DTEND:20180608T200000Z
ATTENDEE;CN="Garibaldi Nick";CUTYPE=INDIVIDUAL;PARTSTAT=ACCE
	PTED:notifications@bn.org.uk
ATTENDEE;CN="AndrewRea";CUTYPE=INDIVIDUAL;PARTSTAT=ACCEPTED:
	notifications@bn.org.uk
ATTENDEE;CN="martin.smith";CUTYPE=INDIVIDUAL;PARTSTAT=ACCEPT
	ED:notifications@bn.org.uk
END:VEVENT
END:VCALENDAR
