BEGIN:VCALENDAR
VERSION:2.0
PRODID:-//InvisionCommunity Events 5.0.18//EN
METHOD:PUBLISH
CALSCALE:GREGORIAN
REFRESH-INTERVAL:PT15M
X-PUBLISHED-TTL:PT15M
X-WR-CALNAME:International
NAME:International
BEGIN:VTIMEZONE
TZID:Europe/London
TZURL:https://tzurl.org/zoneinfo/Europe/London
X-LIC-LOCATION:Europe/London
BEGIN:DAYLIGHT
TZOFFSETFROM:+0000
TZOFFSETTO:+0100
TZNAME:BST
DTSTART:20180325T020000Z
RRULE:FREQ=YEARLY;BYMONTH=3;BYDAY=-1SU
END:DAYLIGHT
BEGIN:STANDARD
TZOFFSETFROM:+0100
TZOFFSETTO:+0000
TZNAME:GMT
DTSTART:20181028T020000Z
RRULE:FREQ=YEARLY;BYMONTH=10;BYDAY=-1SU
END:STANDARD
END:VTIMEZONE
BEGIN:VEVENT
SUMMARY:ENY Youth Rally - Austria
DTSTAMP:20171128T194127Z
SEQUENCE:0
UID:3873-9-0712e666d78c35a5e0181a336d457050@bn.org.uk
ORGANIZER;CN="mark.walsh":notifications@bn.org.uk
DESCRIPTION:\n\n	The International Youth Rally heads to Vienna in Austri
	a for a weekend of fun. Open to YBN Members - 14 – 28 years old.\n\n\n\n
		Full details on the attached\n\n\n\n	Announcement Vienna GB.pdf\n\n\n\n	2
	018-ENY-REGISTRATION-SPRINGTIME-MEETING-GB.xlsx\n\n
DTSTART:20180509T230000Z
DTEND:20180512T230000Z
END:VEVENT
END:VCALENDAR
