BEGIN:VCALENDAR
VERSION:2.0
PRODID:-//InvisionCommunity Events 5.0.18//EN
METHOD:PUBLISH
CALSCALE:GREGORIAN
REFRESH-INTERVAL:PT15M
X-PUBLISHED-TTL:PT15M
X-WR-CALNAME:North West
NAME:North West
BEGIN:VTIMEZONE
TZID:Europe/London
TZURL:https://tzurl.org/zoneinfo/Europe/London
X-LIC-LOCATION:Europe/London
BEGIN:DAYLIGHT
TZOFFSETFROM:+0000
TZOFFSETTO:+0100
TZNAME:BST
DTSTART:20180325T020000Z
RRULE:FREQ=YEARLY;BYMONTH=3;BYDAY=-1SU
END:DAYLIGHT
BEGIN:STANDARD
TZOFFSETFROM:+0100
TZOFFSETTO:+0000
TZNAME:GMT
DTSTART:20181028T020000Z
RRULE:FREQ=YEARLY;BYMONTH=10;BYDAY=-1SU
END:STANDARD
END:VTIMEZONE
BEGIN:VEVENT
SUMMARY:Alton Towers 2018
DTSTAMP:20171128T192828Z
SEQUENCE:0
UID:3871-5-0712e666d78c35a5e0181a336d457050@bn.org.uk
ORGANIZER;CN="mark.walsh":notifications@bn.org.uk
DESCRIPTION:\n\n	ALTON TOWERS 2018\n\n\n\n	Our flagship event is back fo
	r the twelfth year - Join over 400 BN Members for this weekend of family f
	un\n\n\n\n	BOOKING IS NOW OPEN\n\n\n\n	16th - 18th November\n\n\n\n	£295 
	per room - Bed\, Breakfast\, Waterpark &amp\; Entertainment for a twin occ
	upancy room for two nights - LOW £50 deposit required on booking\n\n\n\n	
		£55 for an extra adult sharing for the 2 nights\n	\n	\n		£45 for an ext
	ra child sharing for the 2 nights\n	\n\n	Booking Line - 01538 705048 or\n\
	n\n\n	Use the booking form (below) - please email to call.centre@alton-tow
	ers.com\n\n\n\n	ALTON TOWERS IS A BN/INF MEMBERS-ONLY EVENT\n\n\n\n	\n\n\n
	\n	 \n\n\n\n	British Naturism Booking Form.doc\n\n
DTSTART:20181116T170000Z
DTEND:20181118T120000Z
END:VEVENT
END:VCALENDAR
