BEGIN:VCALENDAR
VERSION:2.0
PRODID:-//InvisionCommunity Events 5.0.18//EN
METHOD:PUBLISH
CALSCALE:GREGORIAN
REFRESH-INTERVAL:PT15M
X-PUBLISHED-TTL:PT15M
X-WR-CALNAME:North West
NAME:North West
BEGIN:VTIMEZONE
TZID:Europe/London
TZURL:https://tzurl.org/zoneinfo/Europe/London
X-LIC-LOCATION:Europe/London
BEGIN:DAYLIGHT
TZOFFSETFROM:+0000
TZOFFSETTO:+0100
TZNAME:BST
DTSTART:20180325T020000Z
RRULE:FREQ=YEARLY;BYMONTH=3;BYDAY=-1SU
END:DAYLIGHT
BEGIN:STANDARD
TZOFFSETFROM:+0100
TZOFFSETTO:+0000
TZNAME:GMT
DTSTART:20181028T020000Z
RRULE:FREQ=YEARLY;BYMONTH=10;BYDAY=-1SU
END:STANDARD
END:VTIMEZONE
BEGIN:VEVENT
SUMMARY:Waterworld Waterpark - Stoke-on-Trent
DTSTAMP:20171126T172028Z
SEQUENCE:0
UID:3854-5-0712e666d78c35a5e0181a336d457050@bn.org.uk
ORGANIZER;CN="mark.walsh":notifications@bn.org.uk
DESCRIPTION:\n\n	WATERWORLD WATERPARK STOKE-ON-TRENT\n\n\n\n		Sat 29th S
	eptember\n	\n	\n		19.00 - 22.00\n	\n\n	Join us at the UK's Tropical Aqua 
	Park for a session of clothes-free fun...\n\n\n\n	Members - £16.00\nYBN
	 - £10.00\n\n	Member Children - FREE\n\n	Non Members - £20.00\n\n	Non 
	Member Children - £8.00\n\n\n\n	CLICK TO BOOK TICKETS\n\n\n\n	 \n\n\n\n	
	\n\n
DTSTART:20180929T180000Z
DTEND:20180929T210000Z
END:VEVENT
END:VCALENDAR
