BEGIN:VCALENDAR
VERSION:2.0
PRODID:-//InvisionCommunity Events 5.0.18//EN
METHOD:PUBLISH
CALSCALE:GREGORIAN
REFRESH-INTERVAL:PT15M
X-PUBLISHED-TTL:PT15M
X-WR-CALNAME:North West
NAME:North West
BEGIN:VTIMEZONE
TZID:Europe/London
TZURL:https://tzurl.org/zoneinfo/Europe/London
X-LIC-LOCATION:Europe/London
BEGIN:DAYLIGHT
TZOFFSETFROM:+0000
TZOFFSETTO:+0100
TZNAME:BST
DTSTART:20180325T020000Z
RRULE:FREQ=YEARLY;BYMONTH=3;BYDAY=-1SU
END:DAYLIGHT
BEGIN:STANDARD
TZOFFSETFROM:+0100
TZOFFSETTO:+0000
TZNAME:GMT
DTSTART:20181028T020000Z
RRULE:FREQ=YEARLY;BYMONTH=10;BYDAY=-1SU
END:STANDARD
END:VTIMEZONE
BEGIN:VEVENT
SUMMARY:North West Naturists
DTSTAMP:20171125T140707Z
SEQUENCE:0
UID:3845-5-0712e666d78c35a5e0181a336d457050@bn.org.uk
ORGANIZER;CN="malcstu":notifications@bn.org.uk
DESCRIPTION:\n\n	Event details\n\n\n\n	This is a regional fun swim. Welc
	oming to BN members and BN club members.\n\n\n\n	\n		\n			\n				\n					16.
	30 to 19.30 at Worsley pool Complex\, Walkden. M28 3AB\n				\n\n				\n				
		We are a family friendly swim run by members for members where the simple
	 pleasure of naturism is enjoyed by both younger and older members of the 
	family in a warm safe environment.\n				\n\n				\n					Enjoy warm pools fo
	r swimming and exercise\, sauna and steam rooms for detoxification and de-
	stress\, lounge for rest and refreshment.\n				\n\n				\n					Open to all
	 BN members and continental style naturists who enjoy acceptance of natu
	rism as part of a healthy life.\n				\n\n				\n					No membership required
	. Qualified therapeutic care available in the form of professional massage
	 and healing.\n				\n\n				\n					Check www.northwestnaturists.co.uk\n			
		\n\n				\n					Please contact us for registration before attending.\nBy e
	-mail nwnswim@googlemail.com\nOr phone/text 07947 645369 .\nPlease bring 
	photo ID on your first visit\n\nThe cost per person for the 3 hour event i
	s\,\nStandard £10 BN members £5\nUnder 21 (proof of age may be asked for
	) £5\nUnder 16's free\n\nAs we are affiliated with British Naturism we pr
	efer everyone who attends our events to be members of British Naturism\, T
	here are many benefits to membership which include access to many swims an
	d clubs\, access to the BN website and forums where friendship and advic
	e about all things naturist in this country and abroad can be found\, Plea
	se consider joining BN however if your not a BN member please contact 
	us as we welcome all genuine naturists and of course those who are new to 
	naturism.\n\nRemember unacceptable behaviour will not be tolerated.\n				\
	n			\n		\n	\n\n
DTSTART:20180929T153000Z
DTEND:20180929T183000Z
END:VEVENT
END:VCALENDAR
