BEGIN:VCALENDAR
VERSION:2.0
PRODID:-//InvisionCommunity Events 5.0.18//EN
METHOD:PUBLISH
CALSCALE:GREGORIAN
REFRESH-INTERVAL:PT15M
X-PUBLISHED-TTL:PT15M
X-WR-CALNAME:London and South East (LASER)
NAME:London and South East (LASER)
BEGIN:VTIMEZONE
TZID:Europe/London
TZURL:https://tzurl.org/zoneinfo/Europe/London
X-LIC-LOCATION:Europe/London
BEGIN:DAYLIGHT
TZOFFSETFROM:+0000
TZOFFSETTO:+0100
TZNAME:BST
DTSTART:20170326T020000Z
RRULE:FREQ=YEARLY;BYMONTH=3;BYDAY=-1SU
END:DAYLIGHT
BEGIN:STANDARD
TZOFFSETFROM:+0100
TZOFFSETTO:+0000
TZNAME:GMT
DTSTART:20171029T020000Z
RRULE:FREQ=YEARLY;BYMONTH=10;BYDAY=-1SU
END:STANDARD
END:VTIMEZONE
BEGIN:VEVENT
SUMMARY:Nude-ercise Southampton
DTSTAMP:20161212T213304Z
SEQUENCE:0
UID:3265-7-0712e666d78c35a5e0181a336d457050@bn.org.uk
ORGANIZER;CN="helenjarvislover":notifications@bn.org.uk
DESCRIPTION:\n\n	Nude-ercise exercise class.\n\n\n\n	Circuits style exer
	cise class\, using mainly body weight exercises.\n\n\n\n	Team games and p
	artner work will be incorporated\, as well as own individual 'best effort
	'. Sessions will be adapted to suit all levels of fitness and will be fun 
	and varied. The focus is on encouraging interaction within the class as
	 well as delivering a challenging and achievable\, full body workout.\n\n
	\n\n	Please bring a sweat towel and a bottle of water. Mats are provided.\
	n\n\n\n	After the session you have the opportunity to attend the naturist 
	swim at the nearby Oaklands pool. (Additional\, separate charges apply. Th
	e two events are run completely separately.)\n\n\n\n	This is a nudist acti
	vity\, although women may choose to wear a sports bra for comfort.\n\n\n\n
		£8 per person\n\n\n\n	Attendance is by pre-registration only\, as spaces
	 are limited.\n\n	Attendees must pre-register via email to gain admittance
	: nude.ercise@gmail.com\n\n\n\n	Photographic ID will be required.\n\n\n\n	
	All participants will complete a health and fitness questionnaire prior to
	 participation. \n\n\n\n	All information provided will be strictly confid
	ential.\n\n\n\n	 \n\n
DTSTART:20170121T170000Z
DTEND:20170121T180000Z
END:VEVENT
END:VCALENDAR
