BEGIN:VCALENDAR
VERSION:2.0
PRODID:-//InvisionCommunity Events 5.0.18//EN
METHOD:PUBLISH
CALSCALE:GREGORIAN
REFRESH-INTERVAL:PT15M
X-PUBLISHED-TTL:PT15M
X-WR-CALNAME:North West
NAME:North West
BEGIN:VTIMEZONE
TZID:Europe/London
TZURL:https://tzurl.org/zoneinfo/Europe/London
X-LIC-LOCATION:Europe/London
BEGIN:DAYLIGHT
TZOFFSETFROM:+0000
TZOFFSETTO:+0100
TZNAME:BST
DTSTART:20160327T020000Z
RRULE:FREQ=YEARLY;BYMONTH=3;BYDAY=-1SU
END:DAYLIGHT
BEGIN:STANDARD
TZOFFSETFROM:+0100
TZOFFSETTO:+0000
TZNAME:GMT
DTSTART:20161030T020000Z
RRULE:FREQ=YEARLY;BYMONTH=10;BYDAY=-1SU
END:STANDARD
END:VTIMEZONE
BEGIN:VEVENT
SUMMARY:BN National Convention and AGM
DTSTAMP:20160310T112350Z
SEQUENCE:1
UID:2963-5-0712e666d78c35a5e0181a336d457050@bn.org.uk
ORGANIZER;CN="Shar":notifications@bn.org.uk
DESCRIPTION:\n\n	BN National Convention and AGM\n\n\n\n	This event is fo
	r BN members only.\n\n\n\n	Melville Hotel\, 70-72 Adelaide Street\, Blackp
	ool\, FY1 4LA\n\n\n\n	Yes\, it’s back! After a break in 2015 we are deli
	ghted to be holding our 4th National Convention (NatConv) in Blackpool thi
	s year. The AGM will be held on the Sunday afternoon. We are being welcom
	ed to the Melville Hotel\, 70-72 Adelaide Street\, Blackpool\, FY1 4LA in 
	the heart of the town and within easy reach of the major attractions and t
	he Blackpool Illuminations which will be in full swing during our stay.\n\
	n\n\n	NatConv is also a business weekend where we have the opportunity to 
	take stock of the issues we face and get your help in addressing them and 
	look to the future. A programme of workshops\, presentations and discussio
	ns is being compiled and will be published in due course. Entertainment is
	 planned for the Friday and Saturday evenings which will include a trip al
	ong the Illuminations (additional cost for public transport).\n\n\n\n	The 
	AGM will be held at the same location on the Sunday afternoon. Entry to th
	e AGM only does not allow entry to the Convention or use of other faciliti
	es.The National Convention and AGM are open to BN members only.\n\n\n\n	Th
	e hotel has 57 en-suite rooms\, lifts to all floors\, a cabaret bar\, larg
	e dining room and free wifi. Provided we can fill the hotel it will be Nat
	urist throughout from the Friday evening until the Sunday afternoon. Addit
	ional rooms may be available in the nearby sister hotel.\n\n\n\n	Cost –
	 £80 per person to include all meals and morning and afternoon refreshmen
	ts. Day visitors – £20 per person inclusive. There is no charge for adm
	ission to the AGM. Reserve your room now by phoning 01253 623113 where a m
	ember of the team will be happy to take your booking. (Please DO NOT call
	 original contact details\, that were published for this event)  A £20 n
	on-refundable deposit is required at the time of booking with the balance 
	being payable prior to arrival. Alternatively\, you can pay the balance on
	 arrival in cash There are a limited number of single rooms in the Melvill
	e. If you are prepared to share a twin room please let Helen know. Costs h
	ave been set as low as possible so we cannot offer a discount for room sha
	rers.\n\n\n\n	Any queries to BN Vice Chairman\, @norman.donachie.\n\n\nNat
	Con_Alt Towers A4 flyer_FA1.pdf
DTSTART;VALUE=DATE:20161014
DTEND;VALUE=DATE:20161017
END:VEVENT
END:VCALENDAR
