BEGIN:VCALENDAR
VERSION:2.0
PRODID:-//InvisionCommunity Events 5.0.18//EN
METHOD:PUBLISH
CALSCALE:GREGORIAN
REFRESH-INTERVAL:PT15M
X-PUBLISHED-TTL:PT15M
X-WR-CALNAME:South West
NAME:South West
BEGIN:VTIMEZONE
TZID:Europe/London
TZURL:https://tzurl.org/zoneinfo/Europe/London
X-LIC-LOCATION:Europe/London
BEGIN:DAYLIGHT
TZOFFSETFROM:+0000
TZOFFSETTO:+0100
TZNAME:BST
DTSTART:20260329T020000Z
RRULE:FREQ=YEARLY;BYMONTH=3;BYDAY=-1SU
END:DAYLIGHT
BEGIN:STANDARD
TZOFFSETFROM:+0100
TZOFFSETTO:+0000
TZNAME:GMT
DTSTART:20261025T020000Z
RRULE:FREQ=YEARLY;BYMONTH=10;BYDAY=-1SU
END:STANDARD
END:VTIMEZONE
BEGIN:VEVENT
SUMMARY:GBSD & Beach Day
DTSTAMP:20260415T183651Z
SEQUENCE:0
UID:10381-4-0712e666d78c35a5e0181a336d457050@bn.org.uk
ORGANIZER;CN="Sunshinekid":notifications@bn.org.uk
DESCRIPTION:Monknash Beach\, Near Cowbridge\, Vale of Glamorgan.Meet Up 
	at 10.00am at New Mill Farm Stables Car Park\, CF71 7QQWe will then walk t
	hrough the Cwm down to the Beach.There are 2 or 3 Stone stiles to climb ov
	er then some pebbles and flat rocks until we meet the sand.We will then wa
	lk along beach about 50/100yards.Skinny Dip around 11.30am.Bring towel and
	 sunscreen and some lunch.At the end of day we will go to the Plough &amp\
	; Harrow Pub to finish off.Contact Myself if you are coming.
DTSTART;VALUE=DATE:20260502
END:VEVENT
END:VCALENDAR
