BEGIN:VCALENDAR
VERSION:2.0
PRODID:-//InvisionCommunity Events 5.0.18//EN
METHOD:PUBLISH
CALSCALE:GREGORIAN
REFRESH-INTERVAL:PT15M
X-PUBLISHED-TTL:PT15M
X-WR-CALNAME:North West
NAME:North West
BEGIN:VTIMEZONE
TZID:Europe/London
TZURL:https://tzurl.org/zoneinfo/Europe/London
X-LIC-LOCATION:Europe/London
BEGIN:DAYLIGHT
TZOFFSETFROM:+0000
TZOFFSETTO:+0100
TZNAME:BST
DTSTART:20260329T020000Z
RRULE:FREQ=YEARLY;BYMONTH=3;BYDAY=-1SU
END:DAYLIGHT
BEGIN:STANDARD
TZOFFSETFROM:+0100
TZOFFSETTO:+0000
TZNAME:GMT
DTSTART:20261025T020000Z
RRULE:FREQ=YEARLY;BYMONTH=10;BYDAY=-1SU
END:STANDARD
END:VTIMEZONE
BEGIN:VEVENT
SUMMARY:Liverpool Sun & Air Spring Bank Holiday Weekend with BBQ
DTSTAMP:20260415T103957Z
SEQUENCE:0
UID:10379-5-0712e666d78c35a5e0181a336d457050@bn.org.uk
ORGANIZER;CN="Grandma Jane":notifications@bn.org.uk
DESCRIPTION:A BBQ will be held on the Saturday afternoon from 3pmMenu 
	–Bring your own meats\, items to be cooked on the gas BBQ by yourselvesA
	 selection of salads and dips along with a wholesome ‘Jacket Potato’ w
	ill be served to accompany your hot food item/s.Desserts –Individual Fru
	it TartorProfiterolesPrice per person £10.00Closing date for bookings –
	 20th May 5pmAll events are open to both members and visitors to Liverpool
	 Sun &amp\; Air SocietyCamping is available all weekend.We also have self-
	catering accommodation in our newly opened Larch Lodge.BOOK VIA THE WEBSIT
	E https://lsas.org.uk/
DTSTART;VALUE=DATE:20260523
END:VEVENT
END:VCALENDAR
