BEGIN:VCALENDAR
VERSION:2.0
PRODID:-//InvisionCommunity Events 5.0.18//EN
METHOD:PUBLISH
CALSCALE:GREGORIAN
REFRESH-INTERVAL:PT15M
X-PUBLISHED-TTL:PT15M
X-WR-CALNAME:North West
NAME:North West
BEGIN:VTIMEZONE
TZID:Europe/London
TZURL:https://tzurl.org/zoneinfo/Europe/London
X-LIC-LOCATION:Europe/London
BEGIN:DAYLIGHT
TZOFFSETFROM:+0000
TZOFFSETTO:+0100
TZNAME:BST
DTSTART:20260329T020000Z
RRULE:FREQ=YEARLY;BYMONTH=3;BYDAY=-1SU
END:DAYLIGHT
BEGIN:STANDARD
TZOFFSETFROM:+0100
TZOFFSETTO:+0000
TZNAME:GMT
DTSTART:20261025T020000Z
RRULE:FREQ=YEARLY;BYMONTH=10;BYDAY=-1SU
END:STANDARD
END:VTIMEZONE
BEGIN:VEVENT
SUMMARY:Harmony and Wellbeing Naturist Retreat
DTSTAMP:20260412T102737Z
SEQUENCE:0
UID:10377-5-0712e666d78c35a5e0181a336d457050@bn.org.uk
ORGANIZER;CN="Anndra":notifications@bn.org.uk
DESCRIPTION:Our Natural Wellbeing Retreats:  Friday 15th - Sunday 17th M
	ay.Spend the day with us on Saturday or stay the weekend at the club to re
	lax and support your natural wellbeing with meditation\, movement\, physio
	therapy and massage. Contribution: £20 plus usual LSAS day/weekend fees a
	pplicable for visitors.Please call LSAS to book on 07947 480 707 or email 
	info@lsas.org.uk.  Lunch is available on Saturday. Please book lunch with 
	LSAS.One to one physiotherapy\, massage and innerwisdom sessions available
	 (£1 a minute). Please contact Katherine to book.\nHarmony and Wellbeing 
	Naturist Retreat wellbeing2026.pdf
DTSTART;VALUE=DATE:20260516
END:VEVENT
END:VCALENDAR
