BEGIN:VCALENDAR
VERSION:2.0
PRODID:-//InvisionCommunity Events 5.0.18//EN
METHOD:PUBLISH
CALSCALE:GREGORIAN
REFRESH-INTERVAL:PT15M
X-PUBLISHED-TTL:PT15M
X-WR-CALNAME:South West
NAME:South West
BEGIN:VTIMEZONE
TZID:Europe/London
TZURL:https://tzurl.org/zoneinfo/Europe/London
X-LIC-LOCATION:Europe/London
BEGIN:DAYLIGHT
TZOFFSETFROM:+0000
TZOFFSETTO:+0100
TZNAME:BST
DTSTART:20260329T020000Z
RRULE:FREQ=YEARLY;BYMONTH=3;BYDAY=-1SU
END:DAYLIGHT
BEGIN:STANDARD
TZOFFSETFROM:+0100
TZOFFSETTO:+0000
TZNAME:GMT
DTSTART:20261025T020000Z
RRULE:FREQ=YEARLY;BYMONTH=10;BYDAY=-1SU
END:STANDARD
END:VTIMEZONE
BEGIN:VEVENT
SUMMARY:South Wales Cuppa\, Crafts & Chatter Meet up
DTSTAMP:20260402T124215Z
SEQUENCE:0
UID:10363-4-0712e666d78c35a5e0181a336d457050@bn.org.uk
ORGANIZER;CN="lashmo21":notifications@bn.org.uk
DESCRIPTION:Sun 05 Apr 2026\, 14:30  16:30Join us for 2 hours of talk\, 
	laughter and some very simple arts &amp\; crafts. in the centre of Cardiff
	We are a lovely friendly group of naturists\, some are new to naturism\, s
	ome are well practiced but all very friendly and all able to swap experien
	ces.Whilst this is a predominatly naturist event\, it is clothing optional
	\, so theres no pressure either way.As we now are charged for the room\, t
	here is now a charge of £7.00 per person for the meet up including a cupp
	a and biscuit and your crafts material  A very cheap naturist afternoon o
	ut!!If you would like any further information or wish to attend\, please e
	mail me on linda.ashmore@bn.org.uk 
DTSTART:20260503T133000Z
DTEND:20260503T153000Z
END:VEVENT
END:VCALENDAR
