BEGIN:VCALENDAR
VERSION:2.0
PRODID:-//InvisionCommunity Events 5.0.18//EN
METHOD:PUBLISH
CALSCALE:GREGORIAN
REFRESH-INTERVAL:PT15M
X-PUBLISHED-TTL:PT15M
X-WR-CALNAME:Eastern
NAME:Eastern
BEGIN:VTIMEZONE
TZID:Europe/London
TZURL:https://tzurl.org/zoneinfo/Europe/London
X-LIC-LOCATION:Europe/London
BEGIN:DAYLIGHT
TZOFFSETFROM:+0000
TZOFFSETTO:+0100
TZNAME:BST
DTSTART:20260329T020000Z
RRULE:FREQ=YEARLY;BYMONTH=3;BYDAY=-1SU
END:DAYLIGHT
BEGIN:STANDARD
TZOFFSETFROM:+0100
TZOFFSETTO:+0000
TZNAME:GMT
DTSTART:20261025T020000Z
RRULE:FREQ=YEARLY;BYMONTH=10;BYDAY=-1SU
END:STANDARD
END:VTIMEZONE
BEGIN:VEVENT
SUMMARY:Fullers Mill Gardens
DTSTAMP:20260402T112843Z
SEQUENCE:0
UID:10361-8-0712e666d78c35a5e0181a336d457050@bn.org.uk
ORGANIZER;CN="ClubNaturel_Liaison":notifications@bn.org.uk
DESCRIPTION:Club Naturel are organising an INFORMAL Naturist visit to Fu
	llers Mill\, West Stow\, Bury St Edmunds\, IP28 6HD. Fullers Mill is an en
	chanting and tranquil seven-acre creation on the banks of the River Lark. 
	It combines a beautiful site of light dappled woodland with a plantsman’
	s collection of unusual shrubs\, perennials\, lilies\, and marginal plants
	. It is a garden of truly year-round interest. The garden was created by t
	he late Bernard Tickner MBE (1924-2017). He moved to Fullers Mill in 1958 
	and spent over 50 years creating the garden you see today from rough scrub
	 and woodland. In 2004\, Bernard and his wife Bess donated the garden to T
	he Fullers Mill Trust\, a registered charity\, which was established to ma
	nage the garden and to ensure its future. In 2013\, the garden was gifted 
	to Perennial\, for its long-term preservation. Our team of gardeners and v
	olunteers now maintain the garden for the enjoyment of visitors from April
	 to October.The fee for this event is £15 per person\, pre-booked only.Pe
	rennial and Club Naturel disclaims any and all liability for any loss\, da
	mage or injury occasioned by an accident or incident.Assistance Dogs: The 
	garden only allows assistance dogs. Family dogs or other pets are not allo
	wed.We recommend wearing comfortable\, sturdy footwear to help you enjoy e
	xploring the garden’s natural paths and uneven surfaces safely.Wheelchai
	r AccessPlease be advised that due to the garden's uneven surfaces\, grass
	ed areas\, proximity to water and sloping ground\, disabled access is limi
	ted in some areas. You will be given a map on arrival which shows these ar
	eas.RefreshmentsOur Bothy Tea Room offers a selection of hot and cold drin
	ks and cold savoury and sweet snacks\, including sausage rolls\, cakes\, t
	raybakes\, cookies and ice creams. (gluten free and vegan catered for) DO 
	NOT BRING YOUR OWN FOOD AND DRINK!Please let me know should you have dieta
	ry requirements so I can inform the staff.Gift ShopWe stock a large range 
	of contemporary giftware\, cards\, stationery and gifts for gardeners\, in
	cluding our range of Fullers Mill inspired giftsPlants SalesPlants are ava
	ilable for sale in the plant sales area\, including some which have been p
	ropagated from the garden.On Site ParkingLimited Parking is adjacent to th
	e garden\, with accessible parking spaces available.ToiletsToilet faciliti
	es including Accessibe Toilet are located behind the tearoom and shop.If y
	ou would like any further information\, please visit their website: perenn
	ial.org.ukHow to get hereDriving: Fullers Mill Garden is 5 miles north-wes
	t of Bury St Edmunds in Suffolk. Turn off the A1101 (Bury to Mildenhall Ro
	ad) signposted West Stow Anglo Saxon Village. Continue for 1.5 miles and t
	he entrance is clearly marked. Limited parking is available on site.To boo
	k please:Email: secretary@clubnaturel.org.ukYou will then be given details
	 of how to pay.You must book and pay with CLUB NATUREL NOT THE VENUE by We
	dnesday 13th May. No admission on the gate on the day.
DTSTART:20260607T170000Z
DTEND:20260607T193000Z
END:VEVENT
END:VCALENDAR
