BEGIN:VCALENDAR
VERSION:2.0
PRODID:-//InvisionCommunity Events 5.0.18//EN
METHOD:PUBLISH
CALSCALE:GREGORIAN
REFRESH-INTERVAL:PT15M
X-PUBLISHED-TTL:PT15M
X-WR-CALNAME:South West
NAME:South West
BEGIN:VTIMEZONE
TZID:Europe/London
TZURL:https://tzurl.org/zoneinfo/Europe/London
X-LIC-LOCATION:Europe/London
BEGIN:DAYLIGHT
TZOFFSETFROM:+0000
TZOFFSETTO:+0100
TZNAME:BST
DTSTART:20260329T020000Z
RRULE:FREQ=YEARLY;BYMONTH=3;BYDAY=-1SU
END:DAYLIGHT
BEGIN:STANDARD
TZOFFSETFROM:+0100
TZOFFSETTO:+0000
TZNAME:GMT
DTSTART:20261025T020000Z
RRULE:FREQ=YEARLY;BYMONTH=10;BYDAY=-1SU
END:STANDARD
END:VTIMEZONE
BEGIN:VEVENT
SUMMARY:Wyvern Sun Club's Open Fun Day
DTSTAMP:20260329T152712Z
SEQUENCE:0
UID:10359-4-0712e666d78c35a5e0181a336d457050@bn.org.uk
ORGANIZER;CN="MartinR":notifications@bn.org.uk
DESCRIPTION:On Saturday 27-June this summer\, Wyvern Sun Club are again 
	holding their Open Fun Day with the sun lawns and clubhouse being open to 
	members and visitors alike. Bringing a cross section of music to appeal to
	 all tastes from local bands\, and a pig roast that's going to keep everyo
	ne full\, it promises to be a great\, fun day!!Wyvern Sun Club is just a f
	ew miles from Ledbury and is very easily accessible from junction 2 of the
	 M50. More information about the club is available on their new website at
	 Wyvern Sun ClubIf you're interested in coming along\, contact the club se
	cretary\, Tony\, on 07563 678253. Tickets are selling fast. And Tony can t
	ell you about memberships too\, if you're interested.
DTSTART;VALUE=DATE:20260627
END:VEVENT
END:VCALENDAR
