BEGIN:VCALENDAR
VERSION:2.0
PRODID:-//InvisionCommunity Events 5.0.18//EN
METHOD:PUBLISH
CALSCALE:GREGORIAN
REFRESH-INTERVAL:PT15M
X-PUBLISHED-TTL:PT15M
X-WR-CALNAME:North West
NAME:North West
BEGIN:VTIMEZONE
TZID:Europe/London
TZURL:https://tzurl.org/zoneinfo/Europe/London
X-LIC-LOCATION:Europe/London
BEGIN:DAYLIGHT
TZOFFSETFROM:+0000
TZOFFSETTO:+0100
TZNAME:BST
DTSTART:20260329T020000Z
RRULE:FREQ=YEARLY;BYMONTH=3;BYDAY=-1SU
END:DAYLIGHT
BEGIN:STANDARD
TZOFFSETFROM:+0100
TZOFFSETTO:+0000
TZNAME:GMT
DTSTART:20261025T020000Z
RRULE:FREQ=YEARLY;BYMONTH=10;BYDAY=-1SU
END:STANDARD
END:VTIMEZONE
BEGIN:VEVENT
SUMMARY:Open Day at Liverpool Sun & Air Society
DTSTAMP:20260325T094337Z
SEQUENCE:0
UID:10322-5-0712e666d78c35a5e0181a336d457050@bn.org.uk
ORGANIZER;CN="Grandma Jane":notifications@bn.org.uk
DESCRIPTION:Liverpool Sun &amp\; Air Society – Open DayA chance to vis
	it our club\, come and wander through our grounds and sample our facilitie
	s.Please contact the Visitor Team on 07947 480707 or email info@lsas.org.u
	k to enquire.
DTSTART;VALUE=DATE:20260510
END:VEVENT
END:VCALENDAR
