BEGIN:VCALENDAR
VERSION:2.0
PRODID:-//InvisionCommunity Events 5.0.18//EN
METHOD:PUBLISH
CALSCALE:GREGORIAN
REFRESH-INTERVAL:PT15M
X-PUBLISHED-TTL:PT15M
X-WR-CALNAME:Eastern
NAME:Eastern
BEGIN:VTIMEZONE
TZID:Europe/London
TZURL:https://tzurl.org/zoneinfo/Europe/London
X-LIC-LOCATION:Europe/London
BEGIN:DAYLIGHT
TZOFFSETFROM:+0000
TZOFFSETTO:+0100
TZNAME:BST
DTSTART:20260329T020000Z
RRULE:FREQ=YEARLY;BYMONTH=3;BYDAY=-1SU
END:DAYLIGHT
BEGIN:STANDARD
TZOFFSETFROM:+0100
TZOFFSETTO:+0000
TZNAME:GMT
DTSTART:20261025T020000Z
RRULE:FREQ=YEARLY;BYMONTH=10;BYDAY=-1SU
END:STANDARD
END:VTIMEZONE
BEGIN:VEVENT
SUMMARY:Summer Solstice Art Show at Spielplatz
DTSTAMP:20260325T071645Z
SEQUENCE:0
UID:10319-8-0712e666d78c35a5e0181a336d457050@bn.org.uk
ORGANIZER;CN="Andrew.Welch":notifications@bn.org.uk
DESCRIPTION:Spielplatz Art ShowSummer Solstice weekend - June 20/21 2026
	 Come and visit the second annual Spielplatz art show this summer. Member
	s and residents will be exhibiting a wide variety of artistic genres and w
	e want YOU to come and see them.Spielplatz will be open to day visitors an
	d campers and you will be able to enjoy our swimming pool\, hot tub\, bar 
	and beautiful grounds\, just north of London and right next door to the ne
	wly-renovated British Naturism Sunfolk.Many of the artworks will be for sa
	le.https://www.spielplatz.co.uk
DTSTART;VALUE=DATE:20260620
END:VEVENT
END:VCALENDAR
