BEGIN:VCALENDAR
VERSION:2.0
PRODID:-//InvisionCommunity Events 5.0.18//EN
METHOD:PUBLISH
CALSCALE:GREGORIAN
REFRESH-INTERVAL:PT15M
X-PUBLISHED-TTL:PT15M
X-WR-CALNAME:Eastern
NAME:Eastern
BEGIN:VTIMEZONE
TZID:Europe/London
TZURL:https://tzurl.org/zoneinfo/Europe/London
X-LIC-LOCATION:Europe/London
BEGIN:DAYLIGHT
TZOFFSETFROM:+0000
TZOFFSETTO:+0100
TZNAME:BST
DTSTART:20260329T020000Z
RRULE:FREQ=YEARLY;BYMONTH=3;BYDAY=-1SU
END:DAYLIGHT
BEGIN:STANDARD
TZOFFSETFROM:+0100
TZOFFSETTO:+0000
TZNAME:GMT
DTSTART:20261025T020000Z
RRULE:FREQ=YEARLY;BYMONTH=10;BYDAY=-1SU
END:STANDARD
END:VTIMEZONE
BEGIN:VEVENT
SUMMARY:Prested Hall Naturist Swim & Spa
DTSTAMP:20260323T215126Z
SEQUENCE:0
UID:10315-8-0712e666d78c35a5e0181a336d457050@bn.org.uk
ORGANIZER;CN="wendy baz":notifications@bn.org.uk
DESCRIPTION:Held on 2nd and 4th Sunday of the month 6pm-9pm.Large swimmi
	ng Pool\, Sauna\, Steam Room\, Poolside Loungers\, Garden Area(Summer)\, L
	arge Bistro/RestaurantSpa entrance charge currently £8 per personJust off
	 junction 24 A12\, in Feering near Colchester\, Essex. Easily accessible 
	and parking available.\nPrested Hall\, Feering\, Colchester\, Essex CO5 9
	EEFirst visit to be prearranged by phone\, Health Club Manager 01376 57339
	9 or email\, fay.potter@prested.comPlease note\, contacting Fay is a defi
	nite must as swims are very popular with limited availability.https://maps
	.google.com/?q=Prested Hall\, Feering\, Colchester\, Essex\, GB\, CO5 9EE
DTSTART:20260823T170000Z
DTEND:20260823T200000Z
END:VEVENT
END:VCALENDAR
