BEGIN:VCALENDAR
VERSION:2.0
PRODID:-//InvisionCommunity Events 5.0.18//EN
METHOD:PUBLISH
CALSCALE:GREGORIAN
REFRESH-INTERVAL:PT15M
X-PUBLISHED-TTL:PT15M
X-WR-CALNAME:Eastern
NAME:Eastern
BEGIN:VTIMEZONE
TZID:Europe/London
TZURL:https://tzurl.org/zoneinfo/Europe/London
X-LIC-LOCATION:Europe/London
BEGIN:DAYLIGHT
TZOFFSETFROM:+0000
TZOFFSETTO:+0100
TZNAME:BST
DTSTART:20260329T020000Z
RRULE:FREQ=YEARLY;BYMONTH=3;BYDAY=-1SU
END:DAYLIGHT
BEGIN:STANDARD
TZOFFSETFROM:+0100
TZOFFSETTO:+0000
TZNAME:GMT
DTSTART:20261025T020000Z
RRULE:FREQ=YEARLY;BYMONTH=10;BYDAY=-1SU
END:STANDARD
END:VTIMEZONE
BEGIN:VEVENT
SUMMARY:Oxnat Swim at Didcot Wave (waves)
DTSTAMP:20260314T100542Z
SEQUENCE:0
UID:10302-8-0712e666d78c35a5e0181a336d457050@bn.org.uk
ORGANIZER;CN="tomendean_OX":notifications@bn.org.uk
DESCRIPTION:Come and join us at Didcot Wave to swim and socialise.All of
	 our swims run from 5:30pm-6:30pm at Didcot Wave Leisure Centre. Free park
	ing on site at the pool.Attendance costs £10 each. Please bring cash for 
	the night.On arrival you will see that we are just inside reception to wel
	come and register you. Once the venue is empty of other guests we can undr
	ess in the changing rooms and enter the pool.BN members welcome (BN card
	 required on the day)\, but we recommend that you email us in advance to l
	et us know that you will be attending. Any queries or to book please conta
	ct secretary@oxnat.org.uk.
DTSTART:20260523T163000Z
DTEND:20260523T173000Z
END:VEVENT
END:VCALENDAR
