BEGIN:VCALENDAR
VERSION:2.0
PRODID:-//InvisionCommunity Events 5.0.18//EN
METHOD:PUBLISH
CALSCALE:GREGORIAN
REFRESH-INTERVAL:PT15M
X-PUBLISHED-TTL:PT15M
X-WR-CALNAME:North West
NAME:North West
BEGIN:VTIMEZONE
TZID:Europe/London
TZURL:https://tzurl.org/zoneinfo/Europe/London
X-LIC-LOCATION:Europe/London
BEGIN:DAYLIGHT
TZOFFSETFROM:+0000
TZOFFSETTO:+0100
TZNAME:BST
DTSTART:20260329T020000Z
RRULE:FREQ=YEARLY;BYMONTH=3;BYDAY=-1SU
END:DAYLIGHT
BEGIN:STANDARD
TZOFFSETFROM:+0100
TZOFFSETTO:+0000
TZNAME:GMT
DTSTART:20261025T020000Z
RRULE:FREQ=YEARLY;BYMONTH=10;BYDAY=-1SU
END:STANDARD
END:VTIMEZONE
BEGIN:VEVENT
SUMMARY:Sauna Night and Supper
DTSTAMP:20260311T102818Z
SEQUENCE:0
UID:10294-5-0712e666d78c35a5e0181a336d457050@bn.org.uk
ORGANIZER;CN="Grandma Jane":notifications@bn.org.uk
DESCRIPTION:April 3\, 2026 5:30 pm - 9:30 pmEvery Friday from 5.30pm we 
	switch on the sauna for members and visitors\, so if you would like to att
	end you simply need to call our visitors team.Contact the visitors team wh
	o will be happy to help you with any questions.Tel 07947 480707 email – 
	info@lsas.org.ukEspecially for Easter WeekendGood Friday April 3rd Sauna n
	ight with Sausage and Mash with rich onion gravy and to follow jam sponge 
	and custard. (Veggie Sausages available)\, cost £10.Camping is available 
	all weekend.We also have self-catering accommodation in our newly opened L
	arch Lodge.BOOK VIA THE WEBSITE https://lsas.org.uk/
DTSTART;VALUE=DATE:20260403
END:VEVENT
END:VCALENDAR
