BEGIN:VCALENDAR
VERSION:2.0
PRODID:-//InvisionCommunity Events 5.0.18//EN
METHOD:PUBLISH
CALSCALE:GREGORIAN
REFRESH-INTERVAL:PT15M
X-PUBLISHED-TTL:PT15M
X-WR-CALNAME:South West
NAME:South West
BEGIN:VTIMEZONE
TZID:Europe/London
TZURL:https://tzurl.org/zoneinfo/Europe/London
X-LIC-LOCATION:Europe/London
BEGIN:DAYLIGHT
TZOFFSETFROM:+0000
TZOFFSETTO:+0100
TZNAME:BST
DTSTART:20260329T020000Z
RRULE:FREQ=YEARLY;BYMONTH=3;BYDAY=-1SU
END:DAYLIGHT
BEGIN:STANDARD
TZOFFSETFROM:+0100
TZOFFSETTO:+0000
TZNAME:GMT
DTSTART:20261025T020000Z
RRULE:FREQ=YEARLY;BYMONTH=10;BYDAY=-1SU
END:STANDARD
END:VTIMEZONE
BEGIN:VEVENT
SUMMARY:Studland Beach Clean
DTSTAMP:20260310T132714Z
SEQUENCE:0
UID:10291-4-0712e666d78c35a5e0181a336d457050@bn.org.uk
ORGANIZER;CN="kitoff":notifications@bn.org.uk
DESCRIPTION:This is your opportunity to give something back to nature an
	d naturists\, by spending a little time litter-picking on the naturist bea
	ch and dunes at Studland. At the request of the National Trust\, with whom
	 we work closely locally\, I am organising another beach clean\; later tha
	t day we have our biannual quiz and social at Flirt Café in central Bourn
	emouth\, easily accessible from Studland on the 50 morebus route.Gloves\, 
	litter-pickers and bags will be provided: please meet at the wooden post w
	here the midway path (FB6) emerges onto middle of the naturist beach (grid
	 ref SZ038 851\, w3w scenes.thickens.covers)\, as shown on the photo\, at 
	noon.Please wear whatever is appropriate for the weather and bring whateve
	r refreshments you want. During the afternoon we’ll take a break for a s
	ocial picnic together.To ensure that we have an idea of numbers and in cas
	e of cancellation if the weather forecast is bad\, please book a free tick
	et here: https://buytickets.at/nakedticketstore/2112598Any queries to howa
	rd.dymock@bn.org.uk please.
DTSTART:20261010T110000Z
DTEND:20261010T140000Z
END:VEVENT
END:VCALENDAR
