BEGIN:VCALENDAR
VERSION:2.0
PRODID:-//InvisionCommunity Events 5.0.18//EN
METHOD:PUBLISH
CALSCALE:GREGORIAN
REFRESH-INTERVAL:PT15M
X-PUBLISHED-TTL:PT15M
X-WR-CALNAME:South West
NAME:South West
BEGIN:VTIMEZONE
TZID:Europe/London
TZURL:https://tzurl.org/zoneinfo/Europe/London
X-LIC-LOCATION:Europe/London
BEGIN:DAYLIGHT
TZOFFSETFROM:+0000
TZOFFSETTO:+0100
TZNAME:BST
DTSTART:20260329T020000Z
RRULE:FREQ=YEARLY;BYMONTH=3;BYDAY=-1SU
END:DAYLIGHT
BEGIN:STANDARD
TZOFFSETFROM:+0100
TZOFFSETTO:+0000
TZNAME:GMT
DTSTART:20261025T020000Z
RRULE:FREQ=YEARLY;BYMONTH=10;BYDAY=-1SU
END:STANDARD
END:VTIMEZONE
BEGIN:VEVENT
SUMMARY:Naked Quiz & Social Evening\, Bournemouth
DTSTAMP:20260307T233104Z
SEQUENCE:0
UID:10283-4-0712e666d78c35a5e0181a336d457050@bn.org.uk
ORGANIZER;CN="kitoff":notifications@bn.org.uk
DESCRIPTION:Continuing the success of previous events\, which have attra
	cted a mixed crowd of about 60\, we are delighted to offer yet another war
	m welcome to a naked quiz and social evening in a modern\, vibrant and wel
	l-regarded café-bar in the Triangle\, adjacent to the central library. #3
	 on TripAdvisor and 5* food hygiene rating. Following the now-established 
	pattern of spring and autumn evenings\, we are announcing our October date
	\, thanks to our inimitable host Ed and his team.Ticket holders will be we
	lcomed from 7pm. A changing area with coat racks will be provided: please 
	bring a towel on which to sit. Windows will be covered and there will be d
	oor security to ensure privacy.The cover charge for entry to the event and
	 the quiz includes a welcome drink (choice of beers and ciders\, 175ml gla
	ss of house red\, white or rose wine\, soft drink or any hot drink).The ki
	tchen and bar will be open for those wanting to eat and drink. It will be 
	the normal evening menu with vegetarian\, vegan and gluten-free options pl
	us hot and cold drinks\, cakes &amp\;c (links below) with one or two speci
	als. You don't have to eat if you don't want to: it will be normal counter
	 service and pay-as-you-go\, after the initial welcome drink.https://www.f
	lirtwithus.co.uk/menuThe quiz will start c.8pm and is designed to be fun a
	nd informal. There is a great atmosphere whether you come on your own or i
	n a group: teams form on the night and nobody will be left out!£15 per he
	ad\, including quiz and drink upon arrival. Members and non-members welcom
	e\, but tickets must be purchased in advance.Any queries to howard.dymock@
	bn.org.uk rather than the venue\, please.To book- https://buytickets.at/n
	akedticketstore/2108468
DTSTART:20261010T180000Z
DTEND:20261010T210000Z
END:VEVENT
END:VCALENDAR
