BEGIN:VCALENDAR
VERSION:2.0
PRODID:-//InvisionCommunity Events 5.0.18//EN
METHOD:PUBLISH
CALSCALE:GREGORIAN
REFRESH-INTERVAL:PT15M
X-PUBLISHED-TTL:PT15M
X-WR-CALNAME:Eastern
NAME:Eastern
BEGIN:VTIMEZONE
TZID:Europe/London
TZURL:https://tzurl.org/zoneinfo/Europe/London
X-LIC-LOCATION:Europe/London
BEGIN:DAYLIGHT
TZOFFSETFROM:+0000
TZOFFSETTO:+0100
TZNAME:BST
DTSTART:20260329T020000Z
RRULE:FREQ=YEARLY;BYMONTH=3;BYDAY=-1SU
END:DAYLIGHT
BEGIN:STANDARD
TZOFFSETFROM:+0100
TZOFFSETTO:+0000
TZNAME:GMT
DTSTART:20261025T020000Z
RRULE:FREQ=YEARLY;BYMONTH=10;BYDAY=-1SU
END:STANDARD
END:VTIMEZONE
BEGIN:VEVENT
SUMMARY:Active Waters Naturist Swim near Huntingdon
DTSTAMP:20260307T123654Z
SEQUENCE:0
UID:10279-8-0712e666d78c35a5e0181a336d457050@bn.org.uk
ORGANIZER;CN="Nigel_Newman":notifications@bn.org.uk
DESCRIPTION:Lake Ashmor\, near Huntingdon in Cambridgeshire\, is a stunn
	ing man-made lake which offers treated water to ensure a beautifully clean
	 swim.The lake is approximately 1 mile in diameter with a designated swim 
	course of 800 meters. Monday 1st June Monday 6th JulyMonday 3rd AugustMo
	nday 7th SeptemberActive Waters Wild Swimming is hosting four bespoke even
	ts over the summer\, exclusive to Naturists to ensure a relaxed and safe e
	nvironment to enjoy a swim. Lifeguards will be on duty to ensure the safet
	y of all swimmers. Must be a competent swimmer. It's £15 per swimmer and
	 will include refreshments...hot/cold beverages and some tasty goodies...T
	his is not a BN event so bookings and payments must be made direct to the 
	organiser via the website link below.http://www.activewaterswildswimming.c
	o.uk/
DTSTART:20260803T160000Z
DTEND:20260803T180000Z
END:VEVENT
END:VCALENDAR
