BEGIN:VCALENDAR
VERSION:2.0
PRODID:-//InvisionCommunity Events 5.0.18//EN
METHOD:PUBLISH
CALSCALE:GREGORIAN
REFRESH-INTERVAL:PT15M
X-PUBLISHED-TTL:PT15M
X-WR-CALNAME:Eastern
NAME:Eastern
BEGIN:VTIMEZONE
TZID:Europe/London
TZURL:https://tzurl.org/zoneinfo/Europe/London
X-LIC-LOCATION:Europe/London
BEGIN:DAYLIGHT
TZOFFSETFROM:+0000
TZOFFSETTO:+0100
TZNAME:BST
DTSTART:20260329T020000Z
RRULE:FREQ=YEARLY;BYMONTH=3;BYDAY=-1SU
END:DAYLIGHT
BEGIN:STANDARD
TZOFFSETFROM:+0100
TZOFFSETTO:+0000
TZNAME:GMT
DTSTART:20261025T020000Z
RRULE:FREQ=YEARLY;BYMONTH=10;BYDAY=-1SU
END:STANDARD
END:VTIMEZONE
BEGIN:VEVENT
SUMMARY:Tiddington\, Oxfordshire Naturist Walk
DTSTAMP:20260227T142431Z
SEQUENCE:0
UID:10265-8-0712e666d78c35a5e0181a336d457050@bn.org.uk
ORGANIZER;CN="Andrew Roch":notifications@bn.org.uk
DESCRIPTION:Join us for a 6.5 mile naturist walk starting at/returning t
	o Tiddington\, Oxfordshire\, The walk is on reasonably flat terrain\, star
	ting at the village of Tiddington and heading North to the Ickford Bridge 
	over the River Thame. The walk turns to the East across open farmland and 
	skirts a nearby village to then follow the river again for some distance h
	eading South. We then cross the A418 (clothed) and continue a route back t
	o Tiddington.The event is being organised by British Naturism Eastern Regi
	on in association with the Milton Keynes Naturist Meet and Greet Group.  
	It is open to all members of British Naturism and other naturist (walking)
	 groups\; anyone new to naturism or to naturist walking is welcome too.  
	When booking\, please state whether you are a member of BN or other naturi
	st groups.For further information please contact Andrew and Amanda Roch\, 
	Walks Coordinator\, via email: easternwalks@bn.org.uk giving your name\, m
	obile phone number and membership status.  Bookings for the walk will be 
	made by completing the form which can be accessed here. (If you are unable
	 to complete the form because you do not have a Google account then please
	 just send me an email with your name and mobile number.)Register Here
DTSTART:20260801T113000Z
END:VEVENT
END:VCALENDAR
