BEGIN:VCALENDAR
VERSION:2.0
PRODID:-//InvisionCommunity Events 5.0.18//EN
METHOD:PUBLISH
CALSCALE:GREGORIAN
REFRESH-INTERVAL:PT15M
X-PUBLISHED-TTL:PT15M
X-WR-CALNAME:Scotland and North East (SANER)
NAME:Scotland and North East (SANER)
BEGIN:VTIMEZONE
TZID:Europe/London
TZURL:https://tzurl.org/zoneinfo/Europe/London
X-LIC-LOCATION:Europe/London
BEGIN:DAYLIGHT
TZOFFSETFROM:+0000
TZOFFSETTO:+0100
TZNAME:BST
DTSTART:20260329T020000Z
RRULE:FREQ=YEARLY;BYMONTH=3;BYDAY=-1SU
END:DAYLIGHT
BEGIN:STANDARD
TZOFFSETFROM:+0100
TZOFFSETTO:+0000
TZNAME:GMT
DTSTART:20261025T020000Z
RRULE:FREQ=YEARLY;BYMONTH=10;BYDAY=-1SU
END:STANDARD
END:VTIMEZONE
BEGIN:VEVENT
SUMMARY:Boujee Bingo
DTSTAMP:20260222T100834Z
SEQUENCE:0
UID:10258-3-0712e666d78c35a5e0181a336d457050@bn.org.uk
ORGANIZER;CN="Steve Froggatt":notifications@bn.org.uk
DESCRIPTION:TANDOWelcomes BN members&amp\; other genuine naturists🍷 B
	oujee Bingo 🍺🎰🎲🎰Overnight stays at usual fees.Contact TANDO on
	07970 328144in advance for any fees.https://www.tandoclub.org.uk/
DTSTART:20260424T180000Z
END:VEVENT
END:VCALENDAR
