BEGIN:VCALENDAR
VERSION:2.0
PRODID:-//InvisionCommunity Events 5.0.18//EN
METHOD:PUBLISH
CALSCALE:GREGORIAN
REFRESH-INTERVAL:PT15M
X-PUBLISHED-TTL:PT15M
X-WR-CALNAME:Scotland and North East (SANER)
NAME:Scotland and North East (SANER)
BEGIN:VTIMEZONE
TZID:Europe/London
TZURL:https://tzurl.org/zoneinfo/Europe/London
X-LIC-LOCATION:Europe/London
BEGIN:DAYLIGHT
TZOFFSETFROM:+0000
TZOFFSETTO:+0100
TZNAME:BST
DTSTART:20260329T020000Z
RRULE:FREQ=YEARLY;BYMONTH=3;BYDAY=-1SU
END:DAYLIGHT
BEGIN:STANDARD
TZOFFSETFROM:+0100
TZOFFSETTO:+0000
TZNAME:GMT
DTSTART:20261025T020000Z
RRULE:FREQ=YEARLY;BYMONTH=10;BYDAY=-1SU
END:STANDARD
END:VTIMEZONE
BEGIN:VEVENT
SUMMARY:Forth Naturists Swim
DTSTAMP:20260219T130514Z
SEQUENCE:0
UID:10238-3-0712e666d78c35a5e0181a336d457050@bn.org.uk
ORGANIZER;CN="bob_bt":notifications@bn.org.uk
DESCRIPTION:This evening the swim will be held alongside the badminton t
	ournament.Naturist swim from 5pm (doors open 4:30pm) at Haddington in the 
	Aubigny Centre\, featuring:25m swimming poolChildren's poolSaunaSteam room
	Tea\, coffee\, snacks &amp\; cool drinks available.Price will be £15 for 
	this evening - whether you attend the swim\, badminton or both.Only cash w
	ill be accepted on this evening.(The usual swim price of £17 for member\,
	 £19 for non-members &amp\; half price for first timers is suspended - ev
	eryone will be charged £15 for this event)\nSee https://www.forthnaturist
	s.co.uk/ for more details and to contact the Danny.Callaghan@bn.org.uk  yo
	u are a new attendee. 
DTSTART:20260503T153000Z
DTEND:20260503T190000Z
END:VEVENT
END:VCALENDAR
