BEGIN:VCALENDAR
VERSION:2.0
PRODID:-//InvisionCommunity Events 5.0.18//EN
METHOD:PUBLISH
CALSCALE:GREGORIAN
REFRESH-INTERVAL:PT15M
X-PUBLISHED-TTL:PT15M
X-WR-CALNAME:London and South East (LASER)
NAME:London and South East (LASER)
BEGIN:VTIMEZONE
TZID:Europe/London
TZURL:https://tzurl.org/zoneinfo/Europe/London
X-LIC-LOCATION:Europe/London
BEGIN:DAYLIGHT
TZOFFSETFROM:+0000
TZOFFSETTO:+0100
TZNAME:BST
DTSTART:20260329T020000Z
RRULE:FREQ=YEARLY;BYMONTH=3;BYDAY=-1SU
END:DAYLIGHT
BEGIN:STANDARD
TZOFFSETFROM:+0100
TZOFFSETTO:+0000
TZNAME:GMT
DTSTART:20261025T020000Z
RRULE:FREQ=YEARLY;BYMONTH=10;BYDAY=-1SU
END:STANDARD
END:VTIMEZONE
BEGIN:VEVENT
SUMMARY:CLASSIC CAR SHOW AT THE NATURIST FOUNDATION
DTSTAMP:20260212T160050Z
SEQUENCE:0
UID:10223-7-0712e666d78c35a5e0181a336d457050@bn.org.uk
ORGANIZER;CN="AndynPatti":notifications@bn.org.uk
DESCRIPTION:This weekend event at the Naturist Foundation is for classic
	 cars (usually over 25 years old) and other types of vehicles. Your zeppel
	ins and ancient fire engines are all welcome. It's possible to camp over t
	he weekend and use the superb facilities of the Naturist Foundation. There
	's a heated indoor pool\, sauna\, lovely woodland walks\, sunbathing areas
	 and a great well stocked bar.Ticket links\, prices and more information w
	ill be added here in the future.
DTSTART;VALUE=DATE:20260620
DTEND;VALUE=DATE:20260622
END:VEVENT
END:VCALENDAR
