BEGIN:VCALENDAR
VERSION:2.0
PRODID:-//InvisionCommunity Events 5.0.18//EN
METHOD:PUBLISH
CALSCALE:GREGORIAN
REFRESH-INTERVAL:PT15M
X-PUBLISHED-TTL:PT15M
X-WR-CALNAME:Eastern
NAME:Eastern
BEGIN:VTIMEZONE
TZID:Europe/London
TZURL:https://tzurl.org/zoneinfo/Europe/London
X-LIC-LOCATION:Europe/London
BEGIN:DAYLIGHT
TZOFFSETFROM:+0000
TZOFFSETTO:+0100
TZNAME:BST
DTSTART:20260329T020000Z
RRULE:FREQ=YEARLY;BYMONTH=3;BYDAY=-1SU
END:DAYLIGHT
BEGIN:STANDARD
TZOFFSETFROM:+0100
TZOFFSETTO:+0000
TZNAME:GMT
DTSTART:20261025T020000Z
RRULE:FREQ=YEARLY;BYMONTH=10;BYDAY=-1SU
END:STANDARD
END:VTIMEZONE
BEGIN:VEVENT
SUMMARY:Norfolk - Rosslyn Camping & Glamping Clothes-optional week
DTSTAMP:20260208T193348Z
SEQUENCE:0
UID:10213-8-0712e666d78c35a5e0181a336d457050@bn.org.uk
ORGANIZER;CN="rod.currie":notifications@bn.org.uk
DESCRIPTION:ROSSLYN GLAMPING &amp\; CAMPING\, Norfolk.2026 Naturist / Cl
	othes-optional weeks:19th to 28th June and 3rd to 12th July.Camping\, Glam
	ping\, Heated Swimming Pool.Please contact them directly to enquire and bo
	ok.https://www.facebook.com/rosslynglampinghttps://www.rosslynglamping.com
	/
DTSTART:20260619T130000Z
DTEND:20260627T230000Z
END:VEVENT
END:VCALENDAR
