BEGIN:VCALENDAR
VERSION:2.0
PRODID:-//InvisionCommunity Events 5.0.18//EN
METHOD:PUBLISH
CALSCALE:GREGORIAN
REFRESH-INTERVAL:PT15M
X-PUBLISHED-TTL:PT15M
X-WR-CALNAME:Eastern
NAME:Eastern
BEGIN:VTIMEZONE
TZID:Europe/London
TZURL:https://tzurl.org/zoneinfo/Europe/London
X-LIC-LOCATION:Europe/London
BEGIN:DAYLIGHT
TZOFFSETFROM:+0000
TZOFFSETTO:+0100
TZNAME:BST
DTSTART:20260329T020000Z
RRULE:FREQ=YEARLY;BYMONTH=3;BYDAY=-1SU
END:DAYLIGHT
BEGIN:STANDARD
TZOFFSETFROM:+0100
TZOFFSETTO:+0000
TZNAME:GMT
DTSTART:20261025T020000Z
RRULE:FREQ=YEARLY;BYMONTH=10;BYDAY=-1SU
END:STANDARD
END:VTIMEZONE
BEGIN:VEVENT
SUMMARY:MNSC - Sauna & Steamroom in Bury St Edmunds
DTSTAMP:20260203T155706Z
SEQUENCE:0
UID:10186-8-0712e666d78c35a5e0181a336d457050@bn.org.uk
ORGANIZER;CN="Ross28":notifications@bn.org.uk
DESCRIPTION:Come and join us for a session in the newly refurbished heal
	th suite at Bury St Edmunds Sports and Leisure Centre. This is one of two 
	sessions being held solely in the health suite whilst the main pool is bei
	ng refurbished. Numbers are limited so please register your place early. (
	MNSC members must also register for this event) See www.mnsc.org.uk for fu
	ll details.
DTSTART:20260523T153000Z
DTEND:20260523T170000Z
END:VEVENT
END:VCALENDAR
