BEGIN:VCALENDAR
VERSION:2.0
PRODID:-//InvisionCommunity Events 5.0.18//EN
METHOD:PUBLISH
CALSCALE:GREGORIAN
REFRESH-INTERVAL:PT15M
X-PUBLISHED-TTL:PT15M
X-WR-CALNAME:Eastern
NAME:Eastern
BEGIN:VTIMEZONE
TZID:Europe/London
TZURL:https://tzurl.org/zoneinfo/Europe/London
X-LIC-LOCATION:Europe/London
BEGIN:DAYLIGHT
TZOFFSETFROM:+0000
TZOFFSETTO:+0100
TZNAME:BST
DTSTART:20260329T020000Z
RRULE:FREQ=YEARLY;BYMONTH=3;BYDAY=-1SU
END:DAYLIGHT
BEGIN:STANDARD
TZOFFSETFROM:+0100
TZOFFSETTO:+0000
TZNAME:GMT
DTSTART:20261025T020000Z
RRULE:FREQ=YEARLY;BYMONTH=10;BYDAY=-1SU
END:STANDARD
END:VTIMEZONE
BEGIN:VEVENT
SUMMARY:Watford Naturist Swimming Club
DTSTAMP:20260124T130852Z
SEQUENCE:0
UID:10166-8-0712e666d78c35a5e0181a336d457050@bn.org.uk
ORGANIZER;CN="Allan.Kidney":notifications@bn.org.uk
DESCRIPTION:Watford Leisure Centre Central\, Peace Prospect\, Hempstead 
	Road\, Watford\, WD17 3HAWatford Naturist Swimming Club BNIf you have not
	hing on\, ‘Come and take the plunge’!Who are we?We are a very friendly
	\, group of people. We welcome both first timers and seasoned naturists to
	 come and join us at our Friday night swim to enjoy 'The WNSC Friday Feel 
	Good Factor'! When?Every Friday evening from 8.45pm to 10:00pm (except Ba
	nk Holidays). Entry fees: Visitors £6.00\, Members £5.00\, Children acc
	ompanied by a WNSC member free. Cash or card accepted.BN and members of ot
	her Naturist clubs welcome. Please bring your membership card.Visit: www.
	wnsc.org.uk for further informationWhere?Watford Leisure Centre Central\,
	 Peace Prospect\, Watford\, WD17 3HA.Free parking is available in the car 
	park to the rear of the leisure centre. You will need to register your reg
	istration number at the machine in reception.We are conveniently located w
	ith easy access to the M1/J5 and M25/J20.Walking distance from Watford Tow
	n Centre and Watford Junction Train Station (1/2 mile).1 hour from Northam
	pton\, Dartford\, Weybridge\, Oxford and Reading.We look forward to seeing
	 you soon!
DTSTART:20260102T204500Z
DTEND:20260102T220000Z
RRULE:FREQ=WEEKLY;INTERVAL=1;UNTIL=20260327T000000;BYDAY=FR
END:VEVENT
END:VCALENDAR
