BEGIN:VCALENDAR
VERSION:2.0
PRODID:-//InvisionCommunity Events 5.0.18//EN
METHOD:PUBLISH
CALSCALE:GREGORIAN
REFRESH-INTERVAL:PT15M
X-PUBLISHED-TTL:PT15M
X-WR-CALNAME:Eastern
NAME:Eastern
BEGIN:VTIMEZONE
TZID:Europe/London
TZURL:https://tzurl.org/zoneinfo/Europe/London
X-LIC-LOCATION:Europe/London
BEGIN:DAYLIGHT
TZOFFSETFROM:+0000
TZOFFSETTO:+0100
TZNAME:BST
DTSTART:20260329T020000Z
RRULE:FREQ=YEARLY;BYMONTH=3;BYDAY=-1SU
END:DAYLIGHT
BEGIN:STANDARD
TZOFFSETFROM:+0100
TZOFFSETTO:+0000
TZNAME:GMT
DTSTART:20261025T020000Z
RRULE:FREQ=YEARLY;BYMONTH=10;BYDAY=-1SU
END:STANDARD
END:VTIMEZONE
BEGIN:VEVENT
SUMMARY:NatRam Bury Down (near Didcot)
DTSTAMP:20260123T174413Z
SEQUENCE:0
UID:10152-8-0712e666d78c35a5e0181a336d457050@bn.org.uk
ORGANIZER;CN="7kk19bnu4spcmn.andrew":notifications@bn.org.uk
DESCRIPTION:Join us for an 12 mile walk on the Berkshire Downs near Didc
	ot.Big skies\, panoramic views!The event start time for NatRam walks shows
	 when walkers may begin gathering at the start point before the group sets
	 off (usually about 20 to 30 minutes later).The programme for Stark Trekke
	rs and NatRam walks is available on the Naturist Ramblers web site at the 
	NatRam walks programme page.  BN members new to Stark Trekkers and NatRam
	 walks should contact the Club Secretary for more information about Naturi
	st Ramblers Club membership\, and detailed directions to the event meeting
	 point.  Please bring some ID (e.g. a BN membership card) and be prepared
	 to provide some contact details on a completed registration form.More inf
	ormation about our walks on the web site explains how our walks are conduc
	ted\, and gives some guidance on what to expect on the day.\n 
DTSTART:20260716T103000Z
END:VEVENT
END:VCALENDAR
