BEGIN:VCALENDAR
VERSION:2.0
PRODID:-//InvisionCommunity Events 5.0.18//EN
METHOD:PUBLISH
CALSCALE:GREGORIAN
REFRESH-INTERVAL:PT15M
X-PUBLISHED-TTL:PT15M
X-WR-CALNAME:Eastern
NAME:Eastern
BEGIN:VTIMEZONE
TZID:Europe/London
TZURL:https://tzurl.org/zoneinfo/Europe/London
X-LIC-LOCATION:Europe/London
BEGIN:DAYLIGHT
TZOFFSETFROM:+0000
TZOFFSETTO:+0100
TZNAME:BST
DTSTART:20260329T020000Z
RRULE:FREQ=YEARLY;BYMONTH=3;BYDAY=-1SU
END:DAYLIGHT
BEGIN:STANDARD
TZOFFSETFROM:+0100
TZOFFSETTO:+0000
TZNAME:GMT
DTSTART:20261025T020000Z
RRULE:FREQ=YEARLY;BYMONTH=10;BYDAY=-1SU
END:STANDARD
END:VTIMEZONE
BEGIN:VEVENT
SUMMARY:NatRam Charlbury (near Oxford)
DTSTAMP:20260123T173530Z
SEQUENCE:0
UID:10149-8-0712e666d78c35a5e0181a336d457050@bn.org.uk
ORGANIZER;CN="7kk19bnu4spcmn.andrew":notifications@bn.org.uk
DESCRIPTION:Join us for a 10 mile* walk near Charlbury in Oxfordshire.* 
	Note: a shorter version of this walk (8 miles) will be available on the da
	y. The event start time for NatRam walks shows when walkers may begin gat
	hering at the start point before the group sets off (usually about 20 to 3
	0 minutes later).The programme for Stark Trekkers and NatRam walks is avai
	lable on the Naturist Ramblers web site at the NatRam walks programme page
	.  BN members new to Stark Trekkers and NatRam walks should contact the C
	lub Secretary for more information about Naturist Ramblers Club membership
	\, and detailed directions to the event meeting point.  Please bring some
	 ID (e.g. a BN membership card) and be prepared to provide some contact de
	tails on a completed registration form.\n More information about our walk
	s on the web site explains how our walks are conducted\, and gives some gu
	idance on what to expect on the day. 
DTSTART:20260625T110000Z
END:VEVENT
END:VCALENDAR
