BEGIN:VCALENDAR
VERSION:2.0
PRODID:-//InvisionCommunity Events 5.0.18//EN
METHOD:PUBLISH
CALSCALE:GREGORIAN
REFRESH-INTERVAL:PT15M
X-PUBLISHED-TTL:PT15M
X-WR-CALNAME:North West
NAME:North West
BEGIN:VTIMEZONE
TZID:Europe/London
TZURL:https://tzurl.org/zoneinfo/Europe/London
X-LIC-LOCATION:Europe/London
BEGIN:DAYLIGHT
TZOFFSETFROM:+0000
TZOFFSETTO:+0100
TZNAME:BST
DTSTART:20260329T020000Z
RRULE:FREQ=YEARLY;BYMONTH=3;BYDAY=-1SU
END:DAYLIGHT
BEGIN:STANDARD
TZOFFSETFROM:+0100
TZOFFSETTO:+0000
TZNAME:GMT
DTSTART:20261025T020000Z
RRULE:FREQ=YEARLY;BYMONTH=10;BYDAY=-1SU
END:STANDARD
END:VTIMEZONE
BEGIN:VEVENT
SUMMARY:Ceilidh Dinner Dance with Live Entertainment @ Liverpool Sun
	 & Air
DTSTAMP:20260111T134340Z
SEQUENCE:0
UID:10105-5-0712e666d78c35a5e0181a336d457050@bn.org.uk
ORGANIZER;CN="Grandma Jane":notifications@bn.org.uk
DESCRIPTION:Ceilidh DanceSaturday\, 24 January 2026\, 7:00pmWith Live en
	tertainmentMenuScotch Broth &amp\; Soft RollorSmoked Salmon on Scottish Pa
	ncakewith Dill Yogurt DressingoOoOoOoBalmoral Chicken with Whisky Jus (chi
	cken with haggis and wrapped bacon\, also available without haggis)orThree
	 Green’s Filo Tart~~~~~~~~Served with Carrots\, Broccoli\, andDauphinois
	e PotatoesoOoOoOoClootie Dumpling PuddingorTipsy Laird£20 per person. Boo
	k by 21 January. No refunds after booking closes.Book via the website even
	ts calendar Ceilidh Dinner Dance with Live Entertainment – Liverpool Sun
	 &amp\; Air
DTSTART;VALUE=DATE:20260124
END:VEVENT
END:VCALENDAR
