BEGIN:VCALENDAR
VERSION:2.0
PRODID:-//InvisionCommunity Events 5.0.18//EN
METHOD:PUBLISH
CALSCALE:GREGORIAN
REFRESH-INTERVAL:PT15M
X-PUBLISHED-TTL:PT15M
X-WR-CALNAME:London and South East (LASER)
NAME:London and South East (LASER)
BEGIN:VTIMEZONE
TZID:Europe/London
TZURL:https://tzurl.org/zoneinfo/Europe/London
X-LIC-LOCATION:Europe/London
BEGIN:DAYLIGHT
TZOFFSETFROM:+0000
TZOFFSETTO:+0100
TZNAME:BST
DTSTART:20260329T020000Z
RRULE:FREQ=YEARLY;BYMONTH=3;BYDAY=-1SU
END:DAYLIGHT
BEGIN:STANDARD
TZOFFSETFROM:+0100
TZOFFSETTO:+0000
TZNAME:GMT
DTSTART:20261025T020000Z
RRULE:FREQ=YEARLY;BYMONTH=10;BYDAY=-1SU
END:STANDARD
END:VTIMEZONE
BEGIN:VEVENT
SUMMARY:**CANCELLED**  Southampton Swim | Oaklands Pool
DTSTAMP:20260108T123603Z
SEQUENCE:0
UID:10049-7-0712e666d78c35a5e0181a336d457050@bn.org.uk
ORGANIZER;CN="Alana":notifications@bn.org.uk
DESCRIPTION:PLEASE NOTE THIS DATE HAS BEEN CANCELLED BY THE VENUE\, WE A
	POLOGISE FOR ANY INCONVENIENCE...   If you have paid for a ticket online\,
	 we will refund asap.  We are looking at other suitable dates.Naked Southa
	mpton Swim at the Oaklands Community Pool in Southampton.The cost is £8 o
	n the door or you can buy your ticket online.The event is open to all\, bu
	t please remember to bring photo ID\, such as a driving licence\, or a BN 
	membership card.The pools website is http://www.oaklandspool.org.uk/Ticket
	s available here: https://buytickets.at/nakedticketstore/2012567
DTSTART:20260321T173000Z
DTEND:20260321T190000Z
END:VEVENT
END:VCALENDAR
